{"text_format":"1","workbook":"xlsx","n_sheets":2,"sheets":["Nutzenpotential","Auswertung"],"not_rendered":{"charts":2,"images":0,"macros":1,"external_links":0,"defined_names":2,"comments":1,"pivot_tables":0},"unopened":[],"bounds":{"document_bytes":16777216,"sheet_cells":100000,"rows_first":2000,"rows_last":500,"rows_between":2000,"halvings":0,"cell_chars":16384,"cell_head_chars":4096},"cells_cut":0,"cells_raw":0,"read":"whole","date_system":"1900"}

{"sheet":"Nutzenpotential","index":0,"n_rows":42,"n_cols":28,"rows_kept":42,"cut":false,"hidden":false,"merged":[[4,21,4,24],[27,8,31,8],[16,8,18,8],[25,13,25,16],[25,17,25,20],[25,21,25,24],[24,9,25,12],[6,8,8,8],[9,8,12,8],[24,3,24,8],[25,5,25,6],[25,7,25,8],[27,6,31,6],[13,8,15,8],[37,0,39,0],[37,4,39,4],[4,13,4,16],[4,17,4,20],[32,4,36,4],[6,6,8,6],[9,6,12,6],[13,6,15,6],[16,6,18,6],[32,6,36,6],[37,6,39,6],[32,0,36,0],[37,8,39,8],[4,26,5,26],[6,0,8,0],[6,4,8,4],[9,0,12,0],[9,4,12,4],[13,0,15,0],[13,4,15,4],[32,8,36,8],[3,0,5,0],[3,1,5,1],[3,2,5,2],[24,0,26,0],[4,27,5,29],[2,0,2,12],[23,0,23,12],[27,0,31,0],[27,4,31,4],[16,0,18,0],[16,4,18,4],[25,3,25,4],[4,3,4,4],[4,5,4,6],[4,7,4,8],[3,3,3,8],[3,9,4,12],[24,1,26,1],[24,2,26,2],[27,2,39,2]]}
[]
[]
["Eignung der Geschäftsprozesse  für die Einführung von eBusiness Standards"]
["Kategorie","Kriterien","Bemerkung","Bewertung",null,null,null,null,null,"Einfluss auf eBS Kategorien"]
[null,null,null,"GP 1",null,"GP 2",null,"GP 3",null,null,null,null,null,"GP1",null,null,null,"GP2",null,null,null,"GP3",null,null,null,null,null,"Bitte tragen Sie in die makierten Felder ihre Selbsteinschätzung ein"]
[null,null,null,null,"gerundeter Durchschnitt",null,"gerundeter Durchschnitt",null,"gerundeter Durchschnitt","IS","PKS","KS","TS","IS ","PKS","KS","TS","IS ","PKS","KS","TS","IS ","PKS","KS","TS"]
["Transaktions-objekt","Individualisierungsgrad","1:= sehr individuell; 5= nicht individuell",1,{"$f":"ROUND(((D7+D8+D9)/3),0)","v":2},1,{"$f":"ROUND(((F7+F8+F9)/3),0)","v":2},1,{"$f":"ROUND(((H7+H8+H9)/3),0)","v":2},0.57999999999999996,0.61,0.75,0.75,{"$f":"$D$7*$J$7+$D$8*$J$8+$D$9*$J$9","v":2.09},{"$f":"$D$7*$K$7+$D$8*$K$8+$D$9*$K$9","v":1.9700000000000002},{"$f":"$D$7*$L$7+$D$8*$L$8+$D$9*$L$9","v":2.95},{"$f":"$D$7*$M$7+$D$8*$M$8+$D$9*$M$9","v":2.82},{"$f":"$F$7*$J$7+$F$8*$J$8+$F$9*$J$9","v":2.09},{"$f":"F7*$K$7+F8*$K$8+F9*$K$9","v":1.9700000000000002},{"$f":"$F$7*$L$7+$F$8*$L$8+$F$9*$L$9","v":2.95},{"$f":"$F$7*$M$7+$F$8*$M$8+$F$9*$M$9","v":2.82},{"$f":"$H$7*$J$7+$H$8*$J$8+$H$9*$J$9","v":2.09},{"$f":"$H$7*$K$7+$H$8*$K$8+$H$9*$K$9","v":1.9700000000000002},{"$f":"$H$7*$L$7+$H$8*$L$8+$H$9*$L$9","v":2.95},{"$f":"$H$7*$M$7+$H$8*$M$8+$H$9*$M$9","v":2.82}]
[null,"Komplexität der Beschreibung","1:= hohe Komplexität; 5:= gerine Komplexität",2,null,2,null,2,null,0.38,0.38,0.8,0.6]
[null,"Wertigkeit","1:= hohe Wertigkeit; 5:= gerine Wertigkeit",3,null,3,null,3,null,0.25,0.2,0.2,0.28999999999999998]
["Transaktions-struktur","Regelmäßigkeit ","1:= sehr selten ; 5:= sehr häufig",4,{"$f":"ROUND(((D10+D11+D12+D13)/4),0)","v":3},4,{"$f":"ROUND(((F10+F11+F12+F13)/4),0)","v":4},4,{"$f":"ROUND(((H10+H11+H12+H13)/4),0)","v":3},0.5,0.42,0.57999999999999996,0.79,{"$f":"$D$10*$J$10+$D$11*$J$11+$D$12*$J$12+$D$13*$J$13","v":7.21},{"$f":"$D$10*$K$10+$D$11*$K$11+$D$12*$K$12+$D$13*$K$13","v":5.09},{"$f":"$D$10*$L$10+$D$11*$L$11+$D$12*$L$12+$D$13*$L$13","v":6.54},{"$f":"$D$10*$M$10+$D$11*$M$11+$D$12*$M$12+$D$13*$M$13","v":9},{"$f":"$F$10*$J$10+$F$11*$J$11+$F$12*$J$12+$F$13*$J$13","v":9.67},{"$f":"F10*K10+F11*K11+F12*K12+F13*K13","v":6.48},{"$f":"$F$10*$L$10+$F$11*$L$11+$F$12*$L$12+$F$13*$L$13","v":7.9399999999999995},{"$f":"F10*M10+F11*M11+F12*M12+F13*M13","v":11.41},{"$f":"$H$10*$J$10+$H$11*$J$11+$H$12*$J$12+$H$13*$J$13","v":7.21},{"$f":"$H$10*$K$10+$H$11*$K$11+$H$12*$K$12+$H$13*$K$13","v":5.09},{"$f":"$H$10*$L$10+$H$11*$L$11+$H$12*$L$12+$H$13*$L$13","v":6.54},{"$f":"$H$10*$M$10+$H$11*$M$11+$H$12*$M$12+$H$13*$M$13","v":9}]
[null,"geografische Ausdehnung","1:=weit (z.B. Asien); 5:= begrenzt (lokal)",5,null,4,null,5,null,0.7,0.45,0.6,0.75]
[null,"Anzahl teilnehmender Akteure","1:= hoch; 5 =gering",1,null,5,null,1,null,0.79,0.46,0.5,0.79]
[null,"Komplexität der Transaktion","1:= sehr komplex ; 5:= wenig komplex",2,null,2,null,2,null,0.46,0.35,0.36,0.65]
["Beziehungs-merkmale","Beziehungsdauer","1:=  kurz; 5:= sehr lang",3,{"$f":"ROUND(((D14+D15+D16)/3),0)","v":4},2,{"$f":"ROUND(((F14+F15+F16)/3),0)","v":2},3,{"$f":"ROUND(((H14+H15+H16)/3),0)","v":4},0.33,0.42,0.43,0.57999999999999996,{"$f":"$D$14*$J$14+$D$15*$J$15+$D$16*$J$16","v":7.15},{"$f":"$D$14*$K$14+$D$15*$K$15+$D$16*$K$16","v":6.5600000000000005},{"$f":"$D$14*$L$14+$D$15*$L$15+$D$16*$L$16","v":7.19},{"$f":"$D$14*$M$14+$D$15*$M$15+$D$16*$M$16","v":7.8900000000000006},{"$f":"$F$14*$J$14+$F$15*$J$15+$F$16*$J$16","v":3.4400000000000004},{"$f":"F14*K14+F15*K15+F16*K16","v":3.26},{"$f":"$F$14*$L$14+$F$15*$L$15+$F$16*$L$16","v":3.54},{"$f":"$F$14*$M$14+$F$15*$M$15+$F$16*$M$16","v":3.92},{"$f":"$H$14*$J$14+$H$15*$J$15+$H$16*$J$16","v":7.15},{"$f":"$H$14*$K$14+$H$15*$K$15+$H$16*$K$16","v":6.5600000000000005},{"$f":"$H$14*$L$14+$H$15*$L$15+$H$16*$L$16","v":7.19},{"$f":"$H$14*$M$14+$H$15*$M$15+$H$16*$M$16","v":7.8900000000000006}]
[null,"Marktmacht","1:= sehr gering; 5:= sehr hoch",4,null,2,null,4,null,0.79,0.75,0.8,0.75]
[null,"branchenübegreifend","1:= vollkommen fremd; 5:= gleiche Branche",5,null,2,null,5,null,0.6,0.46,0.54,0.63]
["Sonstiges","Stammdatenqualität","1:= sehr schlecht ; 5:= sehr gut",1,{"$f":"ROUND(((D17)/1),0)","v":1},3,{"$f":"ROUND(((F17)/1),0)","v":3},1,{"$f":"ROUND(((H17)/1),0)","v":1},0.3,0.89,0.87,0.3,{"$f":"$D$17*$J$17","v":0.3},{"$f":"$D$17*$K$17","v":0.89},{"$f":"$D$17*$L$17","v":0.87},{"$f":"$D$17*$M$17","v":0.3},{"$f":"$F$17*$J$17","v":0.89999999999999991},{"$f":"F17*K17","v":2.67},{"$f":"F17*L17","v":2.61},{"$f":"F17*M17","v":0.89999999999999991},{"$f":"$H$17*$J$17","v":0.3},{"$f":"$H$17*$K$17","v":0.89},{"$f":"$H$17*$L$17","v":0.87},{"$f":"$H$17*$M$17","v":0.3}]
[null,"Medienbrüche","1:= hohe Anzahl ; 5:= keine ",2,null,4,null,2,null,"?","?","?","?"]
[null,"Automatisierungsgrad","1:= sehr gering; 5:= sehr hoch",3,null,3,null,3,null,"?","?","?","?"]
[]
[null,null,null,null,null,null,null,null,null,null,null,null,null,{"$f":"SUM(N7:N17)","v":16.750000000000004},{"$f":"SUM(O7:O17)","v":14.510000000000002},17.55,20.010000000000002,16.099999999999998,14.38,17.04,19.049999999999997,16.750000000000004,14.510000000000002,17.55,20.010000000000002]
[]
[]
["Durch eBusiness Standards potentiell zu erzielender Nutzen"]
["Kategorie","Kriterien","Bemerkung","Bewertung ",null,null,null,null,null,"Einfluss auf eBS Kategorien"]
[null,null,null,"GP 1",null,"GP 2",null,"GP 3",null,null,null,null,null,"GP1",null,null,null,"GP2",null,null,null,"GP3"]
[null,null,null,null,"gerundeter Durchschnitt",null,"gerundeter Durchschnitt",null,"gerundeter Durchschnitt","IS","PKS","KS","TS","IS ","PKS","KS","TS","IS ","PKS","KS","TS","IS ","PKS","KS","TS"]
["Kosteneinsparung","Personal","Sie kennen ihr Unternehmen am besten und sollen daher im Folgenden, basierend auf ihrem Wissen zu Funktionen und Leistungen von eBS, einschätzen, welche Verbesserung Sie durch den Einsatz von eBS erwarten. Diese Einschätzung ist abhängig von der Güte ihrer Prozesse. Wenn Sie z.B. viel Zeit für die Auftragsannahme benötigen, da Sie mit verschiedenen Datenpools arbeiten, ist der Nutzen durch den Einsatz von eBS wahrscheinlich hoch.",1,{"$f":"ROUND(((D28+D29+D30+D31+D32)/5),0)","v":3},3,{"$f":"ROUND(((F28+F29+F30+F31+F32)/5),0)","v":3},2,{"$f":"ROUND(((H28+H29+H30+H31+H32)/5),0)","v":3},0.45,0.21,0.54,0.8,{"$f":"$D$28*$J$28+$D$29*$J$29+$D$30*$J$30+$D$31*$J$31+$D$32*$J$32","v":7.07},{"$f":"$D$28*K28+$D$29*K29+$D$30*K30+$D$31*K31+$D$32*K32","v":6.7},{"$f":"$D$28*L28+$D$29*L29+$D$30*L30+$D$31*L31+$D$32*L32","v":7.07},{"$f":"$D$28*$M$28+$D$29*$M$29+$D$30*$M$30+$D$31*$M$31+$D$32*$M$32","v":9.25},{"$f":"$F$28*$J$28+$F$29*$J$29+$F$30*$J$30+$F$31*$J$31+$F$32*$J$32","v":6.5200000000000005},{"$f":"$F$28*$K$28+$F$29*$K$29+$F$30*$K$30+$F$31*$K$31+$F$32*$K$32","v":6.17},{"$f":"$F$28*$L$28+$F$29*$L$29+$F$30*$L$30+$F$31*$L$31+$F$32*$L$32","v":7.44},{"$f":"$F$28*$M$28+$F$29*$M$29+$F$30*$M$30+$F$31*$M$31+$F$32*$M$32","v":10},{"$f":"$H$28*$J$28+$H$29*$J$29+$H$30*$J$30+$H$31*$J$31+$H$32*$J$32","v":6.72},{"$f":"$H$28*$K$28+$H$29*$K$29+$H$30*$K$30+$H$31*$K$31+$H$32*$K$32","v":6.36},{"$f":"$H$28*$L$28+$H$29*$L$29+$H$30*$L$30+$H$31*$L$31+$H$32*$L$32","v":7.2000000000000011},{"$f":"$H$28*$M$28+$H$29*$M$29+$H$30*$M$30+$H$31*$M$31+$H$32*$M$32","v":9.6999999999999993}]
[null,"TAK",null,2,null,3,null,3,null,0.5,0.54,0.63,0.95]
[null,"Fehler",null,3,null,3,null,3,null,0.79,0.75,0.67,0.95]
[null,"Nachverhandlung",null,4,null,3,null,3,null,0,0.28999999999999998,0.44,0.3]
[null,"Fehlleistung",null,5,null,2,null,3,null,0.65,0.4,0.3,0.5]
["Zeiteinsparung","Reaktion",null,1,{"$f":"ROUND(((D33+D34+D35+D36+D37)/5),0)","v":3},2,{"$f":"ROUND(((F33+F34+F35+F36+F37)/5),0)","v":3},2,{"$f":"ROUND(((H33+H34+H35+H36+H37)/5),0)","v":2},0.79,0.5,0.57999999999999996,0.79,{"$f":"$D$33*$J$33+$D$34*$J$34+$D$35*$J$35+$D$36*$J$36+$D$37*$J$37","v":10.64},{"$f":"$D$33*$K$33+$D$34*$K$34+$D$35*$K$35+$D$36*$K$36+$D$37*$K$37","v":8.81},{"$f":"$D$33*$L$33+$D$34*$L$34+$D$35*$L$35+$D$36*$L$36+$D$37*$L$37","v":9.86},{"$f":"$D$33*$M$33+$D$34*$M$34+$D$35*$M$35+$D$36*$M$36+$D$37*$M$37","v":7.21},{"$f":"$F$33*$J$33+$F$34*$J$34+$F$35*$J$35+$F$36*$J$36+$F$37*$J$37","v":11.16},{"$f":"$F$33*$K$33+$F$34*$K$34+$F$35*$K$35+$F$36*$K$36+$F$37*$K$37","v":8.8800000000000008},{"$f":"$F$33*$L$33+$F$34*$L$34+$F$35*$L$35+$F$36*$L$36+$F$37*$L$37","v":10},{"$f":"$F$33*$M$33+$F$34*$M$34+$F$35*$M$35+$F$36*$M$36+$F$37*$M$37","v":8.1},{"$f":"$H$33*$J$33+$H$34*$J$34+$H$35*$J$35+$H$36*$J$36+$H$37*$J$37","v":7.4700000000000006},{"$f":"$H$33*$K$33+$H$34*$K$34+$H$35*$K$35+$H$36*$K$36+$H$37*$K$37","v":6.18},{"$f":"$H$33*$L$33+$H$34*$L$34+$H$35*$L$35+$H$36*$L$36+$H$37*$L$37","v":6.52},{"$f":"$H$33*$M$33+$H$34*$M$34+$H$35*$M$35+$H$36*$M$36+$H$37*$M$37","v":5.01}]
[null,"Lieferung",null,2,null,2,null,2,null,0.63,0.38,0.3,0.5]
[null,"Durchlauf ",null,3,null,4,null,1,null,0.57999999999999996,0.45,0.46,0.45]
[null,"Abwicklung",null,4,null,4,null,1,null,0.65,0.45,0.7,0.57999999999999996]
[null,"Produktsuche",null,5,null,4,null,4,null,0.85,0.88,0.9,0.35]
["Qualitäts-verbesserung","Kundenzufriendenheit",null,1,{"$f":"ROUND(((D38+D39+D40)/3),0)","v":2},5,{"$f":"ROUND(((F38+F39+F40)/3),0)","v":5},2,{"$f":"ROUND(((H38+H39+H40)/3),0)","v":4},0.33,0.71,0.65,0.4,{"$f":"$D$38*$J$38+$D$39*$J$39+$D$40*$J$40","v":3.2699999999999996},{"$f":"$D$38*$K$38+$D$39*$K$39+$D$40*$K$40","v":2.2800000000000002},{"$f":"$D$38*$L$38+$D$39*$L$39+$D$40*$L$40","v":3.05},{"$f":"$D$38*$M$38+$D$39*$M$39+$D$40*$M$40","v":3},{"$f":"$F$38*$J$38+$F$39*$J$39+$F$40*$J$40","v":6.9700000000000006},{"$f":"$F$38*$K$38+$F$39*$K$39+$F$40*$K$40","v":6.32},{"$f":"$F$38*$L$38+$F$39*$L$39+$F$40*$L$40","v":7.5},{"$f":"$F$38*$M$38+$F$39*$M$39+$F$40*$M$40","v":6.75},{"$f":"$H$38*$J$38+$H$39*$J$39+$H$40*$J$40","v":5.96},{"$f":"$H$38*$K$38+$H$39*$K$39+$H$40*$K$40","v":4.2300000000000004},{"$f":"$H$38*$L$38+$H$39*$L$39+$H$40*$L$40","v":5.6},{"$f":"$H$38*$M$38+$H$39*$M$39+$H$40*$M$40","v":5.5}]
[null,"Kooperationen",null,2,null,5,null,4,null,0.6,0.28999999999999998,0.45,0.55000000000000004]
[null,"Abwicklungsqualität",null,3,null,4,null,5,null,0.57999999999999996,0.33,0.5,0.5]
[]
[null,null,null,null,null,null,null,null,null,null,null,null,null,{"$f":"SUM(N28:N40)","v":20.98},{"$f":"SUM(O28:O40)","v":17.790000000000003},19.98,19.46,24.65,21.37,24.94,24.85,20.150000000000002,16.77,19.32,20.21]

{"sheet":"Auswertung","index":1,"n_rows":17,"n_cols":22,"rows_kept":17,"cut":false,"hidden":false,"merged":[[2,17,2,21],[10,17,10,21],[10,1,10,15],[11,1,12,1],[11,2,12,2],[11,3,11,7],[11,8,11,11],[11,12,11,15],[2,1,2,15],[3,1,4,1],[3,8,3,11],[3,12,3,15],[3,3,3,7],[3,2,4,2]]}
[]
[]
[null,"Eignung der Geschäftsprozesse  für die Einführung von eBusiness Standards",null,null,null,null,null,null,null,null,null,null,null,null,null,null,null,"Grenzwerte für Bewertung der Standardkategorien"]
[null,"Geschäfts-prozess","Gesamt Bewertung","Einzeln",null,null,null,null,"Kategorien",null,null,null,"eBS - Kategorien",null,null,null,null,null,"IS","Kl","KA","TK"]
[null,null,null,1,2,3,4,5,"Transaktionsobjekt","Transaktionsstruktur","Beziehungsmerkmale","Sonstiges","IS","KL","KA","TK",null,1,5.68,5.39,6.43,6.88]
[null,"Gp1",{"$f":"ROUND((SUM(Nutzenpotential!$D$7:$D$19)/13),2)","v":2.77},{"$f":"COUNTIF(Nutzenpotential!$D$7:$D$19,\"=1\")","v":3},{"$f":"COUNTIF(Nutzenpotential!$D$7:$D$19,\"=2\")","v":3},{"$f":"COUNTIF(Nutzenpotential!$D$7:$D$19,\"=3\")","v":3},{"$f":"COUNTIF(Nutzenpotential!$D$7:$D$19,\"=5\")","v":2},{"$f":"COUNTIF(Nutzenpotential!$D$7:$D$19,\"=5\")","v":2},{"$f":"ROUND( SUM(Nutzenpotential!$D$7:$D$9)/3,0)","v":2},{"$f":"ROUND( SUM(Nutzenpotential!$D$10:$D$13)/4,0)","v":3},{"$f":"ROUND( SUM(Nutzenpotential!$D$14:$D$16)/3,0)","v":4},{"$f":"ROUND( SUM(Nutzenpotential!$D$17:$D$19)/3,0)","v":2},{"$f":"Nutzenpotential!N21","v":16.750000000000004},{"$f":"Nutzenpotential!O21","v":14.510000000000002},{"$f":"Nutzenpotential!P21","v":17.55},{"$f":"Nutzenpotential!Q21","v":20.010000000000002},null,2,11.36,10.78,12.86,{"$f":"$V$5*2","v":13.76}]
[null,"GP2",{"$f":"ROUND((SUM(Nutzenpotential!$F$7:$F$20)/13),2)","v":2.85},{"$f":"COUNTIF(Nutzenpotential!$F$7:$F$19,\"=1\")","v":1},{"$f":"COUNTIF(Nutzenpotential!$F$7:$F$19,\"=2\")","v":5},{"$f":"COUNTIF(Nutzenpotential!$F$7:$F$19,\"=3\")","v":3},{"$f":"COUNTIF(Nutzenpotential!$F$7:$F$19,\"=4\")","v":3},{"$f":"COUNTIF(Nutzenpotential!$F$7:$F$19,\"=5\")","v":1},{"$f":"ROUND( SUM(Nutzenpotential!$F$7:$F$9)/3,0)","v":2},{"$f":"ROUND( SUM(Nutzenpotential!$F$10:$F$13)/4,0)","v":4},{"$f":"ROUND( SUM(Nutzenpotential!$F$14:$F$16)/3,0)","v":2},{"$f":"ROUND( SUM(Nutzenpotential!$F$17:$F$19)/3,0)","v":3},{"$f":"Nutzenpotential!R21","v":16.099999999999998},{"$f":"Nutzenpotential!S21","v":14.38},{"$f":"Nutzenpotential!T21","v":17.04},{"$f":"Nutzenpotential!U21","v":19.049999999999997},null,3,17.04,16.170000000000002,19.29,{"$f":"$V$5*3","v":20.64}]
[null,"Gp3",{"$f":"ROUND((SUM(Nutzenpotential!$H$7:$H$20)/13),2)","v":2.77},{"$f":"COUNTIF(Nutzenpotential!$H$7:$H$19,\"=1\")","v":3},{"$f":"COUNTIF(Nutzenpotential!$H$7:$H$19,\"=2\")","v":3},{"$f":"COUNTIF(Nutzenpotential!$H$7:$H$19,\"=3\")","v":3},{"$f":"COUNTIF(Nutzenpotential!$H$7:$H$19,\"=4\")","v":2},{"$f":"COUNTIF(Nutzenpotential!$H$7:$H$19,\"=5\")","v":2},{"$f":"ROUND( SUM(Nutzenpotential!$H$7:$H$9)/3,0)","v":2},{"$f":"ROUND( SUM(Nutzenpotential!$H$10:$H$13)/4,0)","v":3},{"$f":"ROUND( SUM(Nutzenpotential!$H$14:$H$16)/3,0)","v":4},{"$f":"ROUND( SUM(Nutzenpotential!$H$17:$H$19)/3,0)","v":2},{"$f":"Nutzenpotential!V21","v":16.750000000000004},{"$f":"Nutzenpotential!W21","v":14.510000000000002},{"$f":"Nutzenpotential!X21","v":17.55},{"$f":"Nutzenpotential!Y21","v":20.010000000000002},null,4,22.72,21.56,25.72,{"$f":"$V$5*4","v":27.52}]
[null,null,null,null,null,null,null,null,null,null,null,null,null,null,null,null,null,5,28.4,26.95,32.15,{"$f":"$V$5*5","v":34.4}]
[]
[null,"Nutzengenerierung durch Einsatz von eBuseinss Standards in Geschäftsprozessen",null,null,null,null,null,null,null,null,null,null,null,null,null,null,null,"Grenzwerte für Bewertung der Standardkategorien"]
[null,"Geschäfts-prozess","Gesamt Bewertung","Einzeln",null,null,null,null,"Kategorien",null,null,null,"eBS - Katgeorien",null,null,null,null,null,"IS","Kl","KA","TK"]
[null,null,null,1,2,3,4,5,"Kosten-einsparung","Zeit-einsparung","Qualitäts-verbesserung","-","IS","KL","KA","TK",null,1,7.4,6.18,7.12,7.62]
[null,"GP1",{"$f":"ROUND((SUM(Nutzenpotential!$D$28:$D$40)/13),2)","v":2.77},{"$f":"COUNTIF(Nutzenpotential!$D$28:$D$40,\"=1\")","v":3},{"$f":"COUNTIF(Nutzenpotential!$D$28:$D$40,\"=2\")","v":3},{"$f":"COUNTIF(Nutzenpotential!$D$28:$D$40,\"=3\")","v":3},{"$f":"COUNTIF(Nutzenpotential!$D$28:$D$40,\"=4\")","v":2},{"$f":"COUNTIF(Nutzenpotential!$D$28:$D$40,\"=5\")","v":2},{"$f":"ROUND( SUM(Nutzenpotential!$D$28:$D$32)/5,0)","v":3},{"$f":"ROUND( SUM(Nutzenpotential!$D$33:$D$37)/5,0)","v":3},{"$f":"ROUND( SUM(Nutzenpotential!$D$38:$D$40)/3,0)","v":2},"-",{"$f":"Nutzenpotential!N42","v":20.98},{"$f":"Nutzenpotential!O42","v":17.790000000000003},{"$f":"Nutzenpotential!P42","v":19.98},{"$f":"Nutzenpotential!Q42","v":19.46},null,2,14.8,12.36,14.24,15.24]
[null,"GP2",{"$f":"ROUND((SUM(Nutzenpotential!$F$28:$F$40)/13),2)","v":3.38},{"$f":"COUNTIF(Nutzenpotential!$F$28:$F$40,\"=1\")","v":0},{"$f":"COUNTIF(Nutzenpotential!$F$28:$F$40,\"=2\")","v":3},{"$f":"COUNTIF(Nutzenpotential!$F$28:$F$40,\"=3\")","v":4},{"$f":"COUNTIF(Nutzenpotential!$F$28:$F$40,\"=4\")","v":4},{"$f":"COUNTIF(Nutzenpotential!$F$28:$F$40,\"=5\")","v":2},{"$f":"ROUND( SUM(Nutzenpotential!$F$28:$F$32)/5,0)","v":3},{"$f":"ROUND( SUM(Nutzenpotential!$F$33:$F$37)/5,0)","v":3},{"$f":"ROUND( SUM(Nutzenpotential!$F$38:$F$40)/3,0)","v":5},"-",{"$f":"Nutzenpotential!R42","v":24.65},{"$f":"Nutzenpotential!S42","v":21.37},{"$f":"Nutzenpotential!T42","v":24.94},{"$f":"Nutzenpotential!U42","v":24.85},null,3,22.2,18.54,21.36,22.86]
[null,"GP3",{"$f":"ROUND((SUM(Nutzenpotential!$H$28:$H$40)/13),2)","v":2.69},{"$f":"COUNTIF(Nutzenpotential!$H$28:$H$40,\"=1\")","v":2},{"$f":"COUNTIF(Nutzenpotential!$H$28:$H$40,\"=2\")","v":4},{"$f":"COUNTIF(Nutzenpotential!$H$28:$H$40,\"=3\")","v":4},{"$f":"COUNTIF(Nutzenpotential!$H$28:$H$40,\"=4\")","v":2},{"$f":"COUNTIF(Nutzenpotential!$H$28:$H$40,\"=5\")","v":1},{"$f":"ROUND( SUM(Nutzenpotential!$H$28:$H$32)/5,0)","v":3},{"$f":"ROUND( SUM(Nutzenpotential!$H$33:$H$37)/5,0)","v":2},{"$f":"ROUND( SUM(Nutzenpotential!$H$38:$H$40)/3,0)","v":4},"-",{"$f":"Nutzenpotential!V42","v":20.150000000000002},{"$f":"Nutzenpotential!W42","v":16.77},{"$f":"Nutzenpotential!X42","v":19.32},{"$f":"Nutzenpotential!Y42","v":20.21},null,4,29.6,24.72,28.48,30.48]
[null,null,null,null,null,null,null,null,null,null,null,null,null,null,null,null,null,5,37,30.9,35.6,38.1]